Workbook

Sheet Log
A1: CONSULTATION LOG | Immersive Hearing Technologies | I1: Clinician 1
A2: Enter one row per patient consultation. Use Patient ID or initials — names not required. | I2: Clinician 2
A3: Date | B3: Patient ID | C3: Clinician | D3: Companion Present | E3: Demo Used | F3: Outcome | G3: Treatment Value ($) | I3: Clinician 3
A4: 46027 | B4: JS | C4: Clinician 1 | D4: Yes | E4: Yes | F4: Pursued Treatment | G4: 5800 | I4: Clinician 4
I5: Clinician 5

Sheet Dashboard
A1: IMMERSIVE ENGAGE DEMO | Practice Impact Dashboard
A2: BASELINE (Pre-Immersive Averages)
A3: Metric | B3: Your Baseline | C3: Notes
A4: Avg Monthly Candidates | B4: 20 | C4: Avg # of patient consultations per month
A5: Avg Acceptance Rate (%) | B5: 0.5 | C5: % of candidates who pursued treatment
A6: Avg Treatment Value ($) | B6: 5000 | C6: Average revenue per treatment
A8: CURRENT MONTH SNAPSHOT
A9: Select Month: | B9: Jan | C9: Choose the month you want to review from the dropdown.
A10: Metric | B10: This Month | C10: Baseline | D10: vs. Baseline
A11: Total Candidates | B11: {=SUMPRODUCT((MONTH(Log!$A$4:$A$503)=MATCH(B9,{"Jan","Feb","Mar","Apr","May","Jun","Jul","Aug","Sep","Oct","Nov","Dec"},0))*(ISNUMBER(Log!$A$4:$A$503)))} | C11: =B4
A12: Acceptance Rate (All) | B12: {=IFERROR(SUMPRODUCT((MONTH(Log!$A$4:$A$503)=MATCH(B9,{"Jan","Feb","Mar","Apr","May","Jun","Jul","Aug","Sep","Oct","Nov","Dec"},0))*(ISNUMBER(Log!$A$4:$A$503))*(Log!$F$4:$F$503="Pursued Treatment"))/SUMPRODUCT((MONTH(Log!$A$4:$A$503)=MATCH(B9,{"Jan","Feb","Mar","Apr","May","Jun","Jul","Aug","Sep","Oct","Nov","Dec"},0))*(ISNUMBER(Log!$A$4:$A$503))),0)} | C12: =B5 | D12: {=IFERROR(SUMPRODUCT((MONTH(Log!$A$4:$A$503)=MATCH(B9,{"Jan","Feb","Mar","Apr","May","Jun","Jul","Aug","Sep","Oct","Nov","Dec"},0))*(ISNUMBER(Log!$A$4:$A$503))*(Log!$F$4:$F$503="Pursued Treatment"))/SUMPRODUCT((MONTH(Log!$A$4:$A$503)=MATCH(B9,{"Jan","Feb","Mar","Apr","May","Jun","Jul","Aug","Sep","Oct","Nov","Dec"},0))*(ISNUMBER(Log!$A$4:$A$503))),0)-B5}
A13: Acceptance WITH Demo | B13: {=IFERROR(SUMPRODUCT((MONTH(Log!$A$4:$A$503)=MATCH(B9,{"Jan","Feb","Mar","Apr","May","Jun","Jul","Aug","Sep","Oct","Nov","Dec"},0))*(ISNUMBER(Log!$A$4:$A$503))*(Log!$E$4:$E$503="Yes")*(Log!$F$4:$F$503="Pursued Treatment"))/SUMPRODUCT((MONTH(Log!$A$4:$A$503)=MATCH(B9,{"Jan","Feb","Mar","Apr","May","Jun","Jul","Aug","Sep","Oct","Nov","Dec"},0))*(ISNUMBER(Log!$A$4:$A$503))*(Log!$E$4:$E$503="Yes")),0)} | C13: —
A14: Acceptance WITHOUT Demo | B14: {=IFERROR(SUMPRODUCT((MONTH(Log!$A$4:$A$503)=MATCH(B9,{"Jan","Feb","Mar","Apr","May","Jun","Jul","Aug","Sep","Oct","Nov","Dec"},0))*(ISNUMBER(Log!$A$4:$A$503))*(Log!$E$4:$E$503="No")*(Log!$F$4:$F$503="Pursued Treatment"))/SUMPRODUCT((MONTH(Log!$A$4:$A$503)=MATCH(B9,{"Jan","Feb","Mar","Apr","May","Jun","Jul","Aug","Sep","Oct","Nov","Dec"},0))*(ISNUMBER(Log!$A$4:$A$503))*(Log!$E$4:$E$503="No")),0)} | C14: —
A15: Demo Acceptance Lift | B15: {=IFERROR(SUMPRODUCT((MONTH(Log!$A$4:$A$503)=MATCH(B9,{"Jan","Feb","Mar","Apr","May","Jun","Jul","Aug","Sep","Oct","Nov","Dec"},0))*(ISNUMBER(Log!$A$4:$A$503))*(Log!$E$4:$E$503="Yes")*(Log!$F$4:$F$503="Pursued Treatment"))/SUMPRODUCT((MONTH(Log!$A$4:$A$503)=MATCH(B9,{"Jan","Feb","Mar","Apr","May","Jun","Jul","Aug","Sep","Oct","Nov","Dec"},0))*(ISNUMBER(Log!$A$4:$A$503))*(Log!$E$4:$E$503="Yes"))-SUMPRODUCT((MONTH(Log!$A$4:$A$503)=MATCH(B9,{"Jan","Feb","Mar","Apr","May","Jun","Jul","Aug","Sep","Oct","Nov","Dec"},0))*(ISNUMBER(Log!$A$4:$A$503))*(Log!$E$4:$E$503="No")*(Log!$F$4:$F$503="Pursued Treatment"))/SUMPRODUCT((MONTH(Log!$A$4:$A$503)=MATCH(B9,{"Jan","Feb","Mar","Apr","May","Jun","Jul","Aug","Sep","Oct","Nov","Dec"},0))*(ISNUMBER(Log!$A$4:$A$503))*(Log!$E$4:$E$503="No")),0)} | C15: —
A16: Demo Utilization Rate | B16: {=IFERROR(SUMPRODUCT((MONTH(Log!$A$4:$A$503)=MATCH(B9,{"Jan","Feb","Mar","Apr","May","Jun","Jul","Aug","Sep","Oct","Nov","Dec"},0))*(ISNUMBER(Log!$A$4:$A$503))*(Log!$E$4:$E$503="Yes"))/SUMPRODUCT((MONTH(Log!$A$4:$A$503)=MATCH(B9,{"Jan","Feb","Mar","Apr","May","Jun","Jul","Aug","Sep","Oct","Nov","Dec"},0))*(ISNUMBER(Log!$A$4:$A$503))),0)} | C16: —
A17: Total Revenue | B17: {=SUMPRODUCT((MONTH(Log!$A$4:$A$503)=MATCH(B9,{"Jan","Feb","Mar","Apr","May","Jun","Jul","Aug","Sep","Oct","Nov","Dec"},0))*(ISNUMBER(Log!$A$4:$A$503))*(Log!$G$4:$G$503))} | C17: =B4*B5*B6 | D17: {=SUMPRODUCT((MONTH(Log!$A$4:$A$503)=MATCH(B9,{"Jan","Feb","Mar","Apr","May","Jun","Jul","Aug","Sep","Oct","Nov","Dec"},0))*(ISNUMBER(Log!$A$4:$A$503))*(Log!$G$4:$G$503))-(B4*B5*B6)}
A18: Est. Revenue Lift vs. Baseline | B18: {=IFERROR(SUMPRODUCT((MONTH(Log!$A$4:$A$503)=MATCH(B9,{"Jan","Feb","Mar","Apr","May","Jun","Jul","Aug","Sep","Oct","Nov","Dec"},0))*(ISNUMBER(Log!$A$4:$A$503))*(Log!$G$4:$G$503))-(SUMPRODUCT((MONTH(Log!$A$4:$A$503)=MATCH(B9,{"Jan","Feb","Mar","Apr","May","Jun","Jul","Aug","Sep","Oct","Nov","Dec"},0))*(ISNUMBER(Log!$A$4:$A$503)))*B5*B6),0)} | C18: —
A19: Avg Treatment Value | B19: {=IFERROR(SUMPRODUCT((MONTH(Log!$A$4:$A$503)=MATCH(B9,{"Jan","Feb","Mar","Apr","May","Jun","Jul","Aug","Sep","Oct","Nov","Dec"},0))*(ISNUMBER(Log!$A$4:$A$503))*(Log!$G$4:$G$503))/SUMPRODUCT((MONTH(Log!$A$4:$A$503)=MATCH(B9,{"Jan","Feb","Mar","Apr","May","Jun","Jul","Aug","Sep","Oct","Nov","Dec"},0))*(ISNUMBER(Log!$A$4:$A$503))*(Log!$F$4:$F$503="Pursued Treatment")),0)} | C19: =B6 | D19: {=IFERROR(SUMPRODUCT((MONTH(Log!$A$4:$A$503)=MATCH(B9,{"Jan","Feb","Mar","Apr","May","Jun","Jul","Aug","Sep","Oct","Nov","Dec"},0))*(ISNUMBER(Log!$A$4:$A$503))*(Log!$G$4:$G$503))/SUMPRODUCT((MONTH(Log!$A$4:$A$503)=MATCH(B9,{"Jan","Feb","Mar","Apr","May","Jun","Jul","Aug","Sep","Oct","Nov","Dec"},0))*(ISNUMBER(Log!$A$4:$A$503))*(Log!$F$4:$F$503="Pursued Treatment")),0)-B6}
A20: Companion Attendance Rate | B20: {=IFERROR(SUMPRODUCT((MONTH(Log!$A$4:$A$503)=MATCH(B9,{"Jan","Feb","Mar","Apr","May","Jun","Jul","Aug","Sep","Oct","Nov","Dec"},0))*(ISNUMBER(Log!$A$4:$A$503))*(Log!$D$4:$D$503="Yes"))/SUMPRODUCT((MONTH(Log!$A$4:$A$503)=MATCH(B9,{"Jan","Feb","Mar","Apr","May","Jun","Jul","Aug","Sep","Oct","Nov","Dec"},0))*(ISNUMBER(Log!$A$4:$A$503))),0)} | C20: —
A23: MONTH-BY-MONTH TREND
A24: Month | B24: Candidates | C24: Acceptance (All) | D24: Acc. w/ Demo | E24: Acc. w/o Demo | F24: Lift | G24: Demo Util % | H24: Revenue | I24: Rev. Lift vs. Baseline
A25: Jan | B25: =SUMPRODUCT((MONTH(Log!$A$4:$A$503)=1)*(ISNUMBER(Log!$A$4:$A$503))) | C25: =IFERROR(SUMPRODUCT((MONTH(Log!$A$4:$A$503)=1)*(ISNUMBER(Log!$A$4:$A$503))*(Log!$F$4:$F$503="Pursued Treatment"))/SUMPRODUCT((MONTH(Log!$A$4:$A$503)=1)*(ISNUMBER(Log!$A$4:$A$503))),"-") | D25: =IFERROR(SUMPRODUCT((MONTH(Log!$A$4:$A$503)=1)*(ISNUMBER(Log!$A$4:$A$503))*(Log!$E$4:$E$503="Yes")*(Log!$F$4:$F$503="Pursued Treatment"))/SUMPRODUCT((MONTH(Log!$A$4:$A$503)=1)*(ISNUMBER(Log!$A$4:$A$503))*(Log!$E$4:$E$503="Yes")),"-") | E25: =IFERROR(SUMPRODUCT((MONTH(Log!$A$4:$A$503)=1)*(ISNUMBER(Log!$A$4:$A$503))*(Log!$E$4:$E$503="No")*(Log!$F$4:$F$503="Pursued Treatment"))/SUMPRODUCT((MONTH(Log!$A$4:$A$503)=1)*(ISNUMBER(Log!$A$4:$A$503))*(Log!$E$4:$E$503="No")),"-") | F25: =IFERROR(SUMPRODUCT((MONTH(Log!$A$4:$A$503)=1)*(ISNUMBER(Log!$A$4:$A$503))*(Log!$E$4:$E$503="Yes")*(Log!$F$4:$F$503="Pursued Treatment"))/SUMPRODUCT((MONTH(Log!$A$4:$A$503)=1)*(ISNUMBER(Log!$A$4:$A$503))*(Log!$E$4:$E$503="Yes"))-SUMPRODUCT((MONTH(Log!$A$4:$A$503)=1)*(ISNUMBER(Log!$A$4:$A$503))*(Log!$E$4:$E$503="No")*(Log!$F$4:$F$503="Pursued Treatment"))/SUMPRODUCT((MONTH(Log!$A$4:$A$503)=1)*(ISNUMBER(Log!$A$4:$A$503))*(Log!$E$4:$E$503="No")),"-") | G25: =IFERROR(SUMPRODUCT((MONTH(Log!$A$4:$A$503)=1)*(ISNUMBER(Log!$A$4:$A$503))*(Log!$E$4:$E$503="Yes"))/SUMPRODUCT((MONTH(Log!$A$4:$A$503)=1)*(ISNUMBER(Log!$A$4:$A$503))),"-") | H25: =SUMPRODUCT((MONTH(Log!$A$4:$A$503)=1)*(ISNUMBER(Log!$A$4:$A$503))*(Log!$G$4:$G$503)) | I25: =IFERROR(SUMPRODUCT((MONTH(Log!$A$4:$A$503)=1)*(ISNUMBER(Log!$A$4:$A$503))*(Log!$G$4:$G$503))-(SUMPRODUCT((MONTH(Log!$A$4:$A$503)=1)*(ISNUMBER(Log!$A$4:$A$503)))*B5*B6),"-")
A26: Feb | B26: =SUMPRODUCT((MONTH(Log!$A$4:$A$503)=2)*(ISNUMBER(Log!$A$4:$A$503))) | C26: =IFERROR(SUMPRODUCT((MONTH(Log!$A$4:$A$503)=2)*(ISNUMBER(Log!$A$4:$A$503))*(Log!$F$4:$F$503="Pursued Treatment"))/SUMPRODUCT((MONTH(Log!$A$4:$A$503)=2)*(ISNUMBER(Log!$A$4:$A$503))),"-") | D26: =IFERROR(SUMPRODUCT((MONTH(Log!$A$4:$A$503)=2)*(ISNUMBER(Log!$A$4:$A$503))*(Log!$E$4:$E$503="Yes")*(Log!$F$4:$F$503="Pursued Treatment"))/SUMPRODUCT((MONTH(Log!$A$4:$A$503)=2)*(ISNUMBER(Log!$A$4:$A$503))*(Log!$E$4:$E$503="Yes")),"-") | E26: =IFERROR(SUMPRODUCT((MONTH(Log!$A$4:$A$503)=2)*(ISNUMBER(Log!$A$4:$A$503))*(Log!$E$4:$E$503="No")*(Log!$F$4:$F$503="Pursued Treatment"))/SUMPRODUCT((MONTH(Log!$A$4:$A$503)=2)*(ISNUMBER(Log!$A$4:$A$503))*(Log!$E$4:$E$503="No")),"-") | F26: =IFERROR(SUMPRODUCT((MONTH(Log!$A$4:$A$503)=2)*(ISNUMBER(Log!$A$4:$A$503))*(Log!$E$4:$E$503="Yes")*(Log!$F$4:$F$503="Pursued Treatment"))/SUMPRODUCT((MONTH(Log!$A$4:$A$503)=2)*(ISNUMBER(Log!$A$4:$A$503))*(Log!$E$4:$E$503="Yes"))-SUMPRODUCT((MONTH(Log!$A$4:$A$503)=2)*(ISNUMBER(Log!$A$4:$A$503))*(Log!$E$4:$E$503="No")*(Log!$F$4:$F$503="Pursued Treatment"))/SUMPRODUCT((MONTH(Log!$A$4:$A$503)=2)*(ISNUMBER(Log!$A$4:$A$503))*(Log!$E$4:$E$503="No")),"-") | G26: =IFERROR(SUMPRODUCT((MONTH(Log!$A$4:$A$503)=2)*(ISNUMBER(Log!$A$4:$A$503))*(Log!$E$4:$E$503="Yes"))/SUMPRODUCT((MONTH(Log!$A$4:$A$503)=2)*(ISNUMBER(Log!$A$4:$A$503))),"-") | H26: =SUMPRODUCT((MONTH(Log!$A$4:$A$503)=2)*(ISNUMBER(Log!$A$4:$A$503))*(Log!$G$4:$G$503)) | I26: =IFERROR(SUMPRODUCT((MONTH(Log!$A$4:$A$503)=2)*(ISNUMBER(Log!$A$4:$A$503))*(Log!$G$4:$G$503))-(SUMPRODUCT((MONTH(Log!$A$4:$A$503)=2)*(ISNUMBER(Log!$A$4:$A$503)))*B5*B6),"-")
A27: Mar | B27: =SUMPRODUCT((MONTH(Log!$A$4:$A$503)=3)*(ISNUMBER(Log!$A$4:$A$503))) | C27: =IFERROR(SUMPRODUCT((MONTH(Log!$A$4:$A$503)=3)*(ISNUMBER(Log!$A$4:$A$503))*(Log!$F$4:$F$503="Pursued Treatment"))/SUMPRODUCT((MONTH(Log!$A$4:$A$503)=3)*(ISNUMBER(Log!$A$4:$A$503))),"-") | D27: =IFERROR(SUMPRODUCT((MONTH(Log!$A$4:$A$503)=3)*(ISNUMBER(Log!$A$4:$A$503))*(Log!$E$4:$E$503="Yes")*(Log!$F$4:$F$503="Pursued Treatment"))/SUMPRODUCT((MONTH(Log!$A$4:$A$503)=3)*(ISNUMBER(Log!$A$4:$A$503))*(Log!$E$4:$E$503="Yes")),"-") | E27: =IFERROR(SUMPRODUCT((MONTH(Log!$A$4:$A$503)=3)*(ISNUMBER(Log!$A$4:$A$503))*(Log!$E$4:$E$503="No")*(Log!$F$4:$F$503="Pursued Treatment"))/SUMPRODUCT((MONTH(Log!$A$4:$A$503)=3)*(ISNUMBER(Log!$A$4:$A$503))*(Log!$E$4:$E$503="No")),"-") | F27: =IFERROR(SUMPRODUCT((MONTH(Log!$A$4:$A$503)=3)*(ISNUMBER(Log!$A$4:$A$503))*(Log!$E$4:$E$503="Yes")*(Log!$F$4:$F$503="Pursued Treatment"))/SUMPRODUCT((MONTH(Log!$A$4:$A$503)=3)*(ISNUMBER(Log!$A$4:$A$503))*(Log!$E$4:$E$503="Yes"))-SUMPRODUCT((MONTH(Log!$A$4:$A$503)=3)*(ISNUMBER(Log!$A$4:$A$503))*(Log!$E$4:$E$503="No")*(Log!$F$4:$F$503="Pursued Treatment"))/SUMPRODUCT((MONTH(Log!$A$4:$A$503)=3)*(ISNUMBER(Log!$A$4:$A$503))*(Log!$E$4:$E$503="No")),"-") | G27: =IFERROR(SUMPRODUCT((MONTH(Log!$A$4:$A$503)=3)*(ISNUMBER(Log!$A$4:$A$503))*(Log!$E$4:$E$503="Yes"))/SUMPRODUCT((MONTH(Log!$A$4:$A$503)=3)*(ISNUMBER(Log!$A$4:$A$503))),"-") | H27: =SUMPRODUCT((MONTH(Log!$A$4:$A$503)=3)*(ISNUMBER(Log!$A$4:$A$503))*(Log!$G$4:$G$503)) | I27: =IFERROR(SUMPRODUCT((MONTH(Log!$A$4:$A$503)=3)*(ISNUMBER(Log!$A$4:$A$503))*(Log!$G$4:$G$503))-(SUMPRODUCT((MONTH(Log!$A$4:$A$503)=3)*(ISNUMBER(Log!$A$4:$A$503)))*B5*B6),"-")
A28: Apr | B28: =SUMPRODUCT((MONTH(Log!$A$4:$A$503)=4)*(ISNUMBER(Log!$A$4:$A$503))) | C28: =IFERROR(SUMPRODUCT((MONTH(Log!$A$4:$A$503)=4)*(ISNUMBER(Log!$A$4:$A$503))*(Log!$F$4:$F$503="Pursued Treatment"))/SUMPRODUCT((MONTH(Log!$A$4:$A$503)=4)*(ISNUMBER(Log!$A$4:$A$503))),"-") | D28: =IFERROR(SUMPRODUCT((MONTH(Log!$A$4:$A$503)=4)*(ISNUMBER(Log!$A$4:$A$503))*(Log!$E$4:$E$503="Yes")*(Log!$F$4:$F$503="Pursued Treatment"))/SUMPRODUCT((MONTH(Log!$A$4:$A$503)=4)*(ISNUMBER(Log!$A$4:$A$503))*(Log!$E$4:$E$503="Yes")),"-") | E28: =IFERROR(SUMPRODUCT((MONTH(Log!$A$4:$A$503)=4)*(ISNUMBER(Log!$A$4:$A$503))*(Log!$E$4:$E$503="No")*(Log!$F$4:$F$503="Pursued Treatment"))/SUMPRODUCT((MONTH(Log!$A$4:$A$503)=4)*(ISNUMBER(Log!$A$4:$A$503))*(Log!$E$4:$E$503="No")),"-") | F28: =IFERROR(SUMPRODUCT((MONTH(Log!$A$4:$A$503)=4)*(ISNUMBER(Log!$A$4:$A$503))*(Log!$E$4:$E$503="Yes")*(Log!$F$4:$F$503="Pursued Treatment"))/SUMPRODUCT((MONTH(Log!$A$4:$A$503)=4)*(ISNUMBER(Log!$A$4:$A$503))*(Log!$E$4:$E$503="Yes"))-SUMPRODUCT((MONTH(Log!$A$4:$A$503)=4)*(ISNUMBER(Log!$A$4:$A$503))*(Log!$E$4:$E$503="No")*(Log!$F$4:$F$503="Pursued Treatment"))/SUMPRODUCT((MONTH(Log!$A$4:$A$503)=4)*(ISNUMBER(Log!$A$4:$A$503))*(Log!$E$4:$E$503="No")),"-") | G28: =IFERROR(SUMPRODUCT((MONTH(Log!$A$4:$A$503)=4)*(ISNUMBER(Log!$A$4:$A$503))*(Log!$E$4:$E$503="Yes"))/SUMPRODUCT((MONTH(Log!$A$4:$A$503)=4)*(ISNUMBER(Log!$A$4:$A$503))),"-") | H28: =SUMPRODUCT((MONTH(Log!$A$4:$A$503)=4)*(ISNUMBER(Log!$A$4:$A$503))*(Log!$G$4:$G$503)) | I28: =IFERROR(SUMPRODUCT((MONTH(Log!$A$4:$A$503)=4)*(ISNUMBER(Log!$A$4:$A$503))*(Log!$G$4:$G$503))-(SUMPRODUCT((MONTH(Log!$A$4:$A$503)=4)*(ISNUMBER(Log!$A$4:$A$503)))*B5*B6),"-")
A29: May | B29: =SUMPRODUCT((MONTH(Log!$A$4:$A$503)=5)*(ISNUMBER(Log!$A$4:$A$503))) | C29: =IFERROR(SUMPRODUCT((MONTH(Log!$A$4:$A$503)=5)*(ISNUMBER(Log!$A$4:$A$503))*(Log!$F$4:$F$503="Pursued Treatment"))/SUMPRODUCT((MONTH(Log!$A$4:$A$503)=5)*(ISNUMBER(Log!$A$4:$A$503))),"-") | D29: =IFERROR(SUMPRODUCT((MONTH(Log!$A$4:$A$503)=5)*(ISNUMBER(Log!$A$4:$A$503))*(Log!$E$4:$E$503="Yes")*(Log!$F$4:$F$503="Pursued Treatment"))/SUMPRODUCT((MONTH(Log!$A$4:$A$503)=5)*(ISNUMBER(Log!$A$4:$A$503))*(Log!$E$4:$E$503="Yes")),"-") | E29: =IFERROR(SUMPRODUCT((MONTH(Log!$A$4:$A$503)=5)*(ISNUMBER(Log!$A$4:$A$503))*(Log!$E$4:$E$503="No")*(Log!$F$4:$F$503="Pursued Treatment"))/SUMPRODUCT((MONTH(Log!$A$4:$A$503)=5)*(ISNUMBER(Log!$A$4:$A$503))*(Log!$E$4:$E$503="No")),"-") | F29: =IFERROR(SUMPRODUCT((MONTH(Log!$A$4:$A$503)=5)*(ISNUMBER(Log!$A$4:$A$503))*(Log!$E$4:$E$503="Yes")*(Log!$F$4:$F$503="Pursued Treatment"))/SUMPRODUCT((MONTH(Log!$A$4:$A$503)=5)*(ISNUMBER(Log!$A$4:$A$503))*(Log!$E$4:$E$503="Yes"))-SUMPRODUCT((MONTH(Log!$A$4:$A$503)=5)*(ISNUMBER(Log!$A$4:$A$503))*(Log!$E$4:$E$503="No")*(Log!$F$4:$F$503="Pursued Treatment"))/SUMPRODUCT((MONTH(Log!$A$4:$A$503)=5)*(ISNUMBER(Log!$A$4:$A$503))*(Log!$E$4:$E$503="No")),"-") | G29: =IFERROR(SUMPRODUCT((MONTH(Log!$A$4:$A$503)=5)*(ISNUMBER(Log!$A$4:$A$503))*(Log!$E$4:$E$503="Yes"))/SUMPRODUCT((MONTH(Log!$A$4:$A$503)=5)*(ISNUMBER(Log!$A$4:$A$503))),"-") | H29: =SUMPRODUCT((MONTH(Log!$A$4:$A$503)=5)*(ISNUMBER(Log!$A$4:$A$503))*(Log!$G$4:$G$503)) | I29: =IFERROR(SUMPRODUCT((MONTH(Log!$A$4:$A$503)=5)*(ISNUMBER(Log!$A$4:$A$503))*(Log!$G$4:$G$503))-(SUMPRODUCT((MONTH(Log!$A$4:$A$503)=5)*(ISNUMBER(Log!$A$4:$A$503)))*B5*B6),"-")
A30: Jun | B30: =SUMPRODUCT((MONTH(Log!$A$4:$A$503)=6)*(ISNUMBER(Log!$A$4:$A$503))) | C30: =IFERROR(SUMPRODUCT((MONTH(Log!$A$4:$A$503)=6)*(ISNUMBER(Log!$A$4:$A$503))*(Log!$F$4:$F$503="Pursued Treatment"))/SUMPRODUCT((MONTH(Log!$A$4:$A$503)=6)*(ISNUMBER(Log!$A$4:$A$503))),"-") | D30: =IFERROR(SUMPRODUCT((MONTH(Log!$A$4:$A$503)=6)*(ISNUMBER(Log!$A$4:$A$503))*(Log!$E$4:$E$503="Yes")*(Log!$F$4:$F$503="Pursued Treatment"))/SUMPRODUCT((MONTH(Log!$A$4:$A$503)=6)*(ISNUMBER(Log!$A$4:$A$503))*(Log!$E$4:$E$503="Yes")),"-") | E30: =IFERROR(SUMPRODUCT((MONTH(Log!$A$4:$A$503)=6)*(ISNUMBER(Log!$A$4:$A$503))*(Log!$E$4:$E$503="No")*(Log!$F$4:$F$503="Pursued Treatment"))/SUMPRODUCT((MONTH(Log!$A$4:$A$503)=6)*(ISNUMBER(Log!$A$4:$A$503))*(Log!$E$4:$E$503="No")),"-") | F30: =IFERROR(SUMPRODUCT((MONTH(Log!$A$4:$A$503)=6)*(ISNUMBER(Log!$A$4:$A$503))*(Log!$E$4:$E$503="Yes")*(Log!$F$4:$F$503="Pursued Treatment"))/SUMPRODUCT((MONTH(Log!$A$4:$A$503)=6)*(ISNUMBER(Log!$A$4:$A$503))*(Log!$E$4:$E$503="Yes"))-SUMPRODUCT((MONTH(Log!$A$4:$A$503)=6)*(ISNUMBER(Log!$A$4:$A$503))*(Log!$E$4:$E$503="No")*(Log!$F$4:$F$503="Pursued Treatment"))/SUMPRODUCT((MONTH(Log!$A$4:$A$503)=6)*(ISNUMBER(Log!$A$4:$A$503))*(Log!$E$4:$E$503="No")),"-") | G30: =IFERROR(SUMPRODUCT((MONTH(Log!$A$4:$A$503)=6)*(ISNUMBER(Log!$A$4:$A$503))*(Log!$E$4:$E$503="Yes"))/SUMPRODUCT((MONTH(Log!$A$4:$A$503)=6)*(ISNUMBER(Log!$A$4:$A$503))),"-") | H30: =SUMPRODUCT((MONTH(Log!$A$4:$A$503)=6)*(ISNUMBER(Log!$A$4:$A$503))*(Log!$G$4:$G$503)) | I30: =IFERROR(SUMPRODUCT((MONTH(Log!$A$4:$A$503)=6)*(ISNUMBER(Log!$A$4:$A$503))*(Log!$G$4:$G$503))-(SUMPRODUCT((MONTH(Log!$A$4:$A$503)=6)*(ISNUMBER(Log!$A$4:$A$503)))*B5*B6),"-")
A31: Jul | B31: =SUMPRODUCT((MONTH(Log!$A$4:$A$503)=7)*(ISNUMBER(Log!$A$4:$A$503))) | C31: =IFERROR(SUMPRODUCT((MONTH(Log!$A$4:$A$503)=7)*(ISNUMBER(Log!$A$4:$A$503))*(Log!$F$4:$F$503="Pursued Treatment"))/SUMPRODUCT((MONTH(Log!$A$4:$A$503)=7)*(ISNUMBER(Log!$A$4:$A$503))),"-") | D31: =IFERROR(SUMPRODUCT((MONTH(Log!$A$4:$A$503)=7)*(ISNUMBER(Log!$A$4:$A$503))*(Log!$E$4:$E$503="Yes")*(Log!$F$4:$F$503="Pursued Treatment"))/SUMPRODUCT((MONTH(Log!$A$4:$A$503)=7)*(ISNUMBER(Log!$A$4:$A$503))*(Log!$E$4:$E$503="Yes")),"-") | E31: =IFERROR(SUMPRODUCT((MONTH(Log!$A$4:$A$503)=7)*(ISNUMBER(Log!$A$4:$A$503))*(Log!$E$4:$E$503="No")*(Log!$F$4:$F$503="Pursued Treatment"))/SUMPRODUCT((MONTH(Log!$A$4:$A$503)=7)*(ISNUMBER(Log!$A$4:$A$503))*(Log!$E$4:$E$503="No")),"-") | F31: =IFERROR(SUMPRODUCT((MONTH(Log!$A$4:$A$503)=7)*(ISNUMBER(Log!$A$4:$A$503))*(Log!$E$4:$E$503="Yes")*(Log!$F$4:$F$503="Pursued Treatment"))/SUMPRODUCT((MONTH(Log!$A$4:$A$503)=7)*(ISNUMBER(Log!$A$4:$A$503))*(Log!$E$4:$E$503="Yes"))-SUMPRODUCT((MONTH(Log!$A$4:$A$503)=7)*(ISNUMBER(Log!$A$4:$A$503))*(Log!$E$4:$E$503="No")*(Log!$F$4:$F$503="Pursued Treatment"))/SUMPRODUCT((MONTH(Log!$A$4:$A$503)=7)*(ISNUMBER(Log!$A$4:$A$503))*(Log!$E$4:$E$503="No")),"-") | G31: =IFERROR(SUMPRODUCT((MONTH(Log!$A$4:$A$503)=7)*(ISNUMBER(Log!$A$4:$A$503))*(Log!$E$4:$E$503="Yes"))/SUMPRODUCT((MONTH(Log!$A$4:$A$503)=7)*(ISNUMBER(Log!$A$4:$A$503))),"-") | H31: =SUMPRODUCT((MONTH(Log!$A$4:$A$503)=7)*(ISNUMBER(Log!$A$4:$A$503))*(Log!$G$4:$G$503)) | I31: =IFERROR(SUMPRODUCT((MONTH(Log!$A$4:$A$503)=7)*(ISNUMBER(Log!$A$4:$A$503))*(Log!$G$4:$G$503))-(SUMPRODUCT((MONTH(Log!$A$4:$A$503)=7)*(ISNUMBER(Log!$A$4:$A$503)))*B5*B6),"-")
A32: Aug | B32: =SUMPRODUCT((MONTH(Log!$A$4:$A$503)=8)*(ISNUMBER(Log!$A$4:$A$503))) | C32: =IFERROR(SUMPRODUCT((MONTH(Log!$A$4:$A$503)=8)*(ISNUMBER(Log!$A$4:$A$503))*(Log!$F$4:$F$503="Pursued Treatment"))/SUMPRODUCT((MONTH(Log!$A$4:$A$503)=8)*(ISNUMBER(Log!$A$4:$A$503))),"-") | D32: =IFERROR(SUMPRODUCT((MONTH(Log!$A$4:$A$503)=8)*(ISNUMBER(Log!$A$4:$A$503))*(Log!$E$4:$E$503="Yes")*(Log!$F$4:$F$503="Pursued Treatment"))/SUMPRODUCT((MONTH(Log!$A$4:$A$503)=8)*(ISNUMBER(Log!$A$4:$A$503))*(Log!$E$4:$E$503="Yes")),"-") | E32: =IFERROR(SUMPRODUCT((MONTH(Log!$A$4:$A$503)=8)*(ISNUMBER(Log!$A$4:$A$503))*(Log!$E$4:$E$503="No")*(Log!$F$4:$F$503="Pursued Treatment"))/SUMPRODUCT((MONTH(Log!$A$4:$A$503)=8)*(ISNUMBER(Log!$A$4:$A$503))*(Log!$E$4:$E$503="No")),"-") | F32: =IFERROR(SUMPRODUCT((MONTH(Log!$A$4:$A$503)=8)*(ISNUMBER(Log!$A$4:$A$503))*(Log!$E$4:$E$503="Yes")*(Log!$F$4:$F$503="Pursued Treatment"))/SUMPRODUCT((MONTH(Log!$A$4:$A$503)=8)*(ISNUMBER(Log!$A$4:$A$503))*(Log!$E$4:$E$503="Yes"))-SUMPRODUCT((MONTH(Log!$A$4:$A$503)=8)*(ISNUMBER(Log!$A$4:$A$503))*(Log!$E$4:$E$503="No")*(Log!$F$4:$F$503="Pursued Treatment"))/SUMPRODUCT((MONTH(Log!$A$4:$A$503)=8)*(ISNUMBER(Log!$A$4:$A$503))*(Log!$E$4:$E$503="No")),"-") | G32: =IFERROR(SUMPRODUCT((MONTH(Log!$A$4:$A$503)=8)*(ISNUMBER(Log!$A$4:$A$503))*(Log!$E$4:$E$503="Yes"))/SUMPRODUCT((MONTH(Log!$A$4:$A$503)=8)*(ISNUMBER(Log!$A$4:$A$503))),"-") | H32: =SUMPRODUCT((MONTH(Log!$A$4:$A$503)=8)*(ISNUMBER(Log!$A$4:$A$503))*(Log!$G$4:$G$503)) | I32: =IFERROR(SUMPRODUCT((MONTH(Log!$A$4:$A$503)=8)*(ISNUMBER(Log!$A$4:$A$503))*(Log!$G$4:$G$503))-(SUMPRODUCT((MONTH(Log!$A$4:$A$503)=8)*(ISNUMBER(Log!$A$4:$A$503)))*B5*B6),"-")
A33: Sep | B33: =SUMPRODUCT((MONTH(Log!$A$4:$A$503)=9)*(ISNUMBER(Log!$A$4:$A$503))) | C33: =IFERROR(SUMPRODUCT((MONTH(Log!$A$4:$A$503)=9)*(ISNUMBER(Log!$A$4:$A$503))*(Log!$F$4:$F$503="Pursued Treatment"))/SUMPRODUCT((MONTH(Log!$A$4:$A$503)=9)*(ISNUMBER(Log!$A$4:$A$503))),"-") | D33: =IFERROR(SUMPRODUCT((MONTH(Log!$A$4:$A$503)=9)*(ISNUMBER(Log!$A$4:$A$503))*(Log!$E$4:$E$503="Yes")*(Log!$F$4:$F$503="Pursued Treatment"))/SUMPRODUCT((MONTH(Log!$A$4:$A$503)=9)*(ISNUMBER(Log!$A$4:$A$503))*(Log!$E$4:$E$503="Yes")),"-") | E33: =IFERROR(SUMPRODUCT((MONTH(Log!$A$4:$A$503)=9)*(ISNUMBER(Log!$A$4:$A$503))*(Log!$E$4:$E$503="No")*(Log!$F$4:$F$503="Pursued Treatment"))/SUMPRODUCT((MONTH(Log!$A$4:$A$503)=9)*(ISNUMBER(Log!$A$4:$A$503))*(Log!$E$4:$E$503="No")),"-") | F33: =IFERROR(SUMPRODUCT((MONTH(Log!$A$4:$A$503)=9)*(ISNUMBER(Log!$A$4:$A$503))*(Log!$E$4:$E$503="Yes")*(Log!$F$4:$F$503="Pursued Treatment"))/SUMPRODUCT((MONTH(Log!$A$4:$A$503)=9)*(ISNUMBER(Log!$A$4:$A$503))*(Log!$E$4:$E$503="Yes"))-SUMPRODUCT((MONTH(Log!$A$4:$A$503)=9)*(ISNUMBER(Log!$A$4:$A$503))*(Log!$E$4:$E$503="No")*(Log!$F$4:$F$503="Pursued Treatment"))/SUMPRODUCT((MONTH(Log!$A$4:$A$503)=9)*(ISNUMBER(Log!$A$4:$A$503))*(Log!$E$4:$E$503="No")),"-") | G33: =IFERROR(SUMPRODUCT((MONTH(Log!$A$4:$A$503)=9)*(ISNUMBER(Log!$A$4:$A$503))*(Log!$E$4:$E$503="Yes"))/SUMPRODUCT((MONTH(Log!$A$4:$A$503)=9)*(ISNUMBER(Log!$A$4:$A$503))),"-") | H33: =SUMPRODUCT((MONTH(Log!$A$4:$A$503)=9)*(ISNUMBER(Log!$A$4:$A$503))*(Log!$G$4:$G$503)) | I33: =IFERROR(SUMPRODUCT((MONTH(Log!$A$4:$A$503)=9)*(ISNUMBER(Log!$A$4:$A$503))*(Log!$G$4:$G$503))-(SUMPRODUCT((MONTH(Log!$A$4:$A$503)=9)*(ISNUMBER(Log!$A$4:$A$503)))*B5*B6),"-")
A34: Oct | B34: =SUMPRODUCT((MONTH(Log!$A$4:$A$503)=10)*(ISNUMBER(Log!$A$4:$A$503))) | C34: =IFERROR(SUMPRODUCT((MONTH(Log!$A$4:$A$503)=10)*(ISNUMBER(Log!$A$4:$A$503))*(Log!$F$4:$F$503="Pursued Treatment"))/SUMPRODUCT((MONTH(Log!$A$4:$A$503)=10)*(ISNUMBER(Log!$A$4:$A$503))),"-") | D34: =IFERROR(SUMPRODUCT((MONTH(Log!$A$4:$A$503)=10)*(ISNUMBER(Log!$A$4:$A$503))*(Log!$E$4:$E$503="Yes")*(Log!$F$4:$F$503="Pursued Treatment"))/SUMPRODUCT((MONTH(Log!$A$4:$A$503)=10)*(ISNUMBER(Log!$A$4:$A$503))*(Log!$E$4:$E$503="Yes")),"-") | E34: =IFERROR(SUMPRODUCT((MONTH(Log!$A$4:$A$503)=10)*(ISNUMBER(Log!$A$4:$A$503))*(Log!$E$4:$E$503="No")*(Log!$F$4:$F$503="Pursued Treatment"))/SUMPRODUCT((MONTH(Log!$A$4:$A$503)=10)*(ISNUMBER(Log!$A$4:$A$503))*(Log!$E$4:$E$503="No")),"-") | F34: =IFERROR(SUMPRODUCT((MONTH(Log!$A$4:$A$503)=10)*(ISNUMBER(Log!$A$4:$A$503))*(Log!$E$4:$E$503="Yes")*(Log!$F$4:$F$503="Pursued Treatment"))/SUMPRODUCT((MONTH(Log!$A$4:$A$503)=10)*(ISNUMBER(Log!$A$4:$A$503))*(Log!$E$4:$E$503="Yes"))-SUMPRODUCT((MONTH(Log!$A$4:$A$503)=10)*(ISNUMBER(Log!$A$4:$A$503))*(Log!$E$4:$E$503="No")*(Log!$F$4:$F$503="Pursued Treatment"))/SUMPRODUCT((MONTH(Log!$A$4:$A$503)=10)*(ISNUMBER(Log!$A$4:$A$503))*(Log!$E$4:$E$503="No")),"-") | G34: =IFERROR(SUMPRODUCT((MONTH(Log!$A$4:$A$503)=10)*(ISNUMBER(Log!$A$4:$A$503))*(Log!$E$4:$E$503="Yes"))/SUMPRODUCT((MONTH(Log!$A$4:$A$503)=10)*(ISNUMBER(Log!$A$4:$A$503))),"-") | H34: =SUMPRODUCT((MONTH(Log!$A$4:$A$503)=10)*(ISNUMBER(Log!$A$4:$A$503))*(Log!$G$4:$G$503)) | I34: =IFERROR(SUMPRODUCT((MONTH(Log!$A$4:$A$503)=10)*(ISNUMBER(Log!$A$4:$A$503))*(Log!$G$4:$G$503))-(SUMPRODUCT((MONTH(Log!$A$4:$A$503)=10)*(ISNUMBER(Log!$A$4:$A$503)))*B5*B6),"-")
A35: Nov | B35: =SUMPRODUCT((MONTH(Log!$A$4:$A$503)=11)*(ISNUMBER(Log!$A$4:$A$503))) | C35: =IFERROR(SUMPRODUCT((MONTH(Log!$A$4:$A$503)=11)*(ISNUMBER(Log!$A$4:$A$503))*(Log!$F$4:$F$503="Pursued Treatment"))/SUMPRODUCT((MONTH(Log!$A$4:$A$503)=11)*(ISNUMBER(Log!$A$4:$A$503))),"-") | D35: =IFERROR(SUMPRODUCT((MONTH(Log!$A$4:$A$503)=11)*(ISNUMBER(Log!$A$4:$A$503))*(Log!$E$4:$E$503="Yes")*(Log!$F$4:$F$503="Pursued Treatment"))/SUMPRODUCT((MONTH(Log!$A$4:$A$503)=11)*(ISNUMBER(Log!$A$4:$A$503))*(Log!$E$4:$E$503="Yes")),"-") | E35: =IFERROR(SUMPRODUCT((MONTH(Log!$A$4:$A$503)=11)*(ISNUMBER(Log!$A$4:$A$503))*(Log!$E$4:$E$503="No")*(Log!$F$4:$F$503="Pursued Treatment"))/SUMPRODUCT((MONTH(Log!$A$4:$A$503)=11)*(ISNUMBER(Log!$A$4:$A$503))*(Log!$E$4:$E$503="No")),"-") | F35: =IFERROR(SUMPRODUCT((MONTH(Log!$A$4:$A$503)=11)*(ISNUMBER(Log!$A$4:$A$503))*(Log!$E$4:$E$503="Yes")*(Log!$F$4:$F$503="Pursued Treatment"))/SUMPRODUCT((MONTH(Log!$A$4:$A$503)=11)*(ISNUMBER(Log!$A$4:$A$503))*(Log!$E$4:$E$503="Yes"))-SUMPRODUCT((MONTH(Log!$A$4:$A$503)=11)*(ISNUMBER(Log!$A$4:$A$503))*(Log!$E$4:$E$503="No")*(Log!$F$4:$F$503="Pursued Treatment"))/SUMPRODUCT((MONTH(Log!$A$4:$A$503)=11)*(ISNUMBER(Log!$A$4:$A$503))*(Log!$E$4:$E$503="No")),"-") | G35: =IFERROR(SUMPRODUCT((MONTH(Log!$A$4:$A$503)=11)*(ISNUMBER(Log!$A$4:$A$503))*(Log!$E$4:$E$503="Yes"))/SUMPRODUCT((MONTH(Log!$A$4:$A$503)=11)*(ISNUMBER(Log!$A$4:$A$503))),"-") | H35: =SUMPRODUCT((MONTH(Log!$A$4:$A$503)=11)*(ISNUMBER(Log!$A$4:$A$503))*(Log!$G$4:$G$503)) | I35: =IFERROR(SUMPRODUCT((MONTH(Log!$A$4:$A$503)=11)*(ISNUMBER(Log!$A$4:$A$503))*(Log!$G$4:$G$503))-(SUMPRODUCT((MONTH(Log!$A$4:$A$503)=11)*(ISNUMBER(Log!$A$4:$A$503)))*B5*B6),"-")
A36: Dec | B36: =SUMPRODUCT((MONTH(Log!$A$4:$A$503)=12)*(ISNUMBER(Log!$A$4:$A$503))) | C36: =IFERROR(SUMPRODUCT((MONTH(Log!$A$4:$A$503)=12)*(ISNUMBER(Log!$A$4:$A$503))*(Log!$F$4:$F$503="Pursued Treatment"))/SUMPRODUCT((MONTH(Log!$A$4:$A$503)=12)*(ISNUMBER(Log!$A$4:$A$503))),"-") | D36: =IFERROR(SUMPRODUCT((MONTH(Log!$A$4:$A$503)=12)*(ISNUMBER(Log!$A$4:$A$503))*(Log!$E$4:$E$503="Yes")*(Log!$F$4:$F$503="Pursued Treatment"))/SUMPRODUCT((MONTH(Log!$A$4:$A$503)=12)*(ISNUMBER(Log!$A$4:$A$503))*(Log!$E$4:$E$503="Yes")),"-") | E36: =IFERROR(SUMPRODUCT((MONTH(Log!$A$4:$A$503)=12)*(ISNUMBER(Log!$A$4:$A$503))*(Log!$E$4:$E$503="No")*(Log!$F$4:$F$503="Pursued Treatment"))/SUMPRODUCT((MONTH(Log!$A$4:$A$503)=12)*(ISNUMBER(Log!$A$4:$A$503))*(Log!$E$4:$E$503="No")),"-") | F36: =IFERROR(SUMPRODUCT((MONTH(Log!$A$4:$A$503)=12)*(ISNUMBER(Log!$A$4:$A$503))*(Log!$E$4:$E$503="Yes")*(Log!$F$4:$F$503="Pursued Treatment"))/SUMPRODUCT((MONTH(Log!$A$4:$A$503)=12)*(ISNUMBER(Log!$A$4:$A$503))*(Log!$E$4:$E$503="Yes"))-SUMPRODUCT((MONTH(Log!$A$4:$A$503)=12)*(ISNUMBER(Log!$A$4:$A$503))*(Log!$E$4:$E$503="No")*(Log!$F$4:$F$503="Pursued Treatment"))/SUMPRODUCT((MONTH(Log!$A$4:$A$503)=12)*(ISNUMBER(Log!$A$4:$A$503))*(Log!$E$4:$E$503="No")),"-") | G36: =IFERROR(SUMPRODUCT((MONTH(Log!$A$4:$A$503)=12)*(ISNUMBER(Log!$A$4:$A$503))*(Log!$E$4:$E$503="Yes"))/SUMPRODUCT((MONTH(Log!$A$4:$A$503)=12)*(ISNUMBER(Log!$A$4:$A$503))),"-") | H36: =SUMPRODUCT((MONTH(Log!$A$4:$A$503)=12)*(ISNUMBER(Log!$A$4:$A$503))*(Log!$G$4:$G$503)) | I36: =IFERROR(SUMPRODUCT((MONTH(Log!$A$4:$A$503)=12)*(ISNUMBER(Log!$A$4:$A$503))*(Log!$G$4:$G$503))-(SUMPRODUCT((MONTH(Log!$A$4:$A$503)=12)*(ISNUMBER(Log!$A$4:$A$503)))*B5*B6),"-")
A37: CUMULATIVE (Full Year) | B37: =SUM(B25:B36) | C37: =IFERROR(SUMPRODUCT((ISNUMBER(Log!$A$4:$A$503))*(Log!$F$4:$F$503="Pursued Treatment"))/SUMPRODUCT((ISNUMBER(Log!$A$4:$A$503))*1),"-") | D37: =IFERROR(SUMPRODUCT((ISNUMBER(Log!$A$4:$A$503))*(Log!$E$4:$E$503="Yes")*(Log!$F$4:$F$503="Pursued Treatment"))/SUMPRODUCT((ISNUMBER(Log!$A$4:$A$503))*(Log!$E$4:$E$503="Yes")*1),"-") | E37: =IFERROR(SUMPRODUCT((ISNUMBER(Log!$A$4:$A$503))*(Log!$E$4:$E$503="No")*(Log!$F$4:$F$503="Pursued Treatment"))/SUMPRODUCT((ISNUMBER(Log!$A$4:$A$503))*(Log!$E$4:$E$503="No")*1),"-") | F37: =IFERROR(D37-E37,"-") | G37: =IFERROR(SUMPRODUCT((ISNUMBER(Log!$A$4:$A$503))*(Log!$E$4:$E$503="Yes")*1)/SUMPRODUCT((ISNUMBER(Log!$A$4:$A$503))*1),"-") | H37: =SUMPRODUCT((ISNUMBER(Log!$A$4:$A$503))*(Log!$G$4:$G$503)) | I37: =IFERROR(H37-(B37*B5*B6),"-")
A39: PROVIDER BREAKDOWN (Full Year)
A40: Clinician | B40: Candidates | C40: Treated | D40: Acceptance | E40: Demo Used | F40: Demo Util % | G40: Revenue | H40: Avg Value
A41: =IF(Log!$I$1="","Clinician 1",Log!$I$1) | B41: =SUMPRODUCT((ISNUMBER(Log!$A$4:$A$503))*(Log!$C$4:$C$503=Log!$I$1)) | C41: =SUMPRODUCT((ISNUMBER(Log!$A$4:$A$503))*(Log!$C$4:$C$503=Log!$I$1)*(Log!$F$4:$F$503="Pursued Treatment")) | D41: =IFERROR(SUMPRODUCT((ISNUMBER(Log!$A$4:$A$503))*(Log!$C$4:$C$503=Log!$I$1)*(Log!$F$4:$F$503="Pursued Treatment"))/SUMPRODUCT((ISNUMBER(Log!$A$4:$A$503))*(Log!$C$4:$C$503=Log!$I$1)),"-") | E41: =SUMPRODUCT((ISNUMBER(Log!$A$4:$A$503))*(Log!$C$4:$C$503=Log!$I$1)*(Log!$E$4:$E$503="Yes")) | F41: =IFERROR(SUMPRODUCT((ISNUMBER(Log!$A$4:$A$503))*(Log!$C$4:$C$503=Log!$I$1)*(Log!$E$4:$E$503="Yes"))/SUMPRODUCT((ISNUMBER(Log!$A$4:$A$503))*(Log!$C$4:$C$503=Log!$I$1)),"-") | G41: =SUMPRODUCT((ISNUMBER(Log!$A$4:$A$503))*(Log!$C$4:$C$503=Log!$I$1)*(Log!$G$4:$G$503)) | H41: =IFERROR(SUMPRODUCT((ISNUMBER(Log!$A$4:$A$503))*(Log!$C$4:$C$503=Log!$I$1)*(Log!$G$4:$G$503))/SUMPRODUCT((ISNUMBER(Log!$A$4:$A$503))*(Log!$C$4:$C$503=Log!$I$1)*(Log!$F$4:$F$503="Pursued Treatment")),"-")
A42: =IF(Log!$I$2="","Clinician 2",Log!$I$2) | B42: =SUMPRODUCT((ISNUMBER(Log!$A$4:$A$503))*(Log!$C$4:$C$503=Log!$I$2)) | C42: =SUMPRODUCT((ISNUMBER(Log!$A$4:$A$503))*(Log!$C$4:$C$503=Log!$I$2)*(Log!$F$4:$F$503="Pursued Treatment")) | D42: =IFERROR(SUMPRODUCT((ISNUMBER(Log!$A$4:$A$503))*(Log!$C$4:$C$503=Log!$I$2)*(Log!$F$4:$F$503="Pursued Treatment"))/SUMPRODUCT((ISNUMBER(Log!$A$4:$A$503))*(Log!$C$4:$C$503=Log!$I$2)),"-") | E42: =SUMPRODUCT((ISNUMBER(Log!$A$4:$A$503))*(Log!$C$4:$C$503=Log!$I$2)*(Log!$E$4:$E$503="Yes")) | F42: =IFERROR(SUMPRODUCT((ISNUMBER(Log!$A$4:$A$503))*(Log!$C$4:$C$503=Log!$I$2)*(Log!$E$4:$E$503="Yes"))/SUMPRODUCT((ISNUMBER(Log!$A$4:$A$503))*(Log!$C$4:$C$503=Log!$I$2)),"-") | G42: =SUMPRODUCT((ISNUMBER(Log!$A$4:$A$503))*(Log!$C$4:$C$503=Log!$I$2)*(Log!$G$4:$G$503)) | H42: =IFERROR(SUMPRODUCT((ISNUMBER(Log!$A$4:$A$503))*(Log!$C$4:$C$503=Log!$I$2)*(Log!$G$4:$G$503))/SUMPRODUCT((ISNUMBER(Log!$A$4:$A$503))*(Log!$C$4:$C$503=Log!$I$2)*(Log!$F$4:$F$503="Pursued Treatment")),"-")
A43: =IF(Log!$I$3="","Clinician 3",Log!$I$3) | B43: =SUMPRODUCT((ISNUMBER(Log!$A$4:$A$503))*(Log!$C$4:$C$503=Log!$I$3)) | C43: =SUMPRODUCT((ISNUMBER(Log!$A$4:$A$503))*(Log!$C$4:$C$503=Log!$I$3)*(Log!$F$4:$F$503="Pursued Treatment")) | D43: =IFERROR(SUMPRODUCT((ISNUMBER(Log!$A$4:$A$503))*(Log!$C$4:$C$503=Log!$I$3)*(Log!$F$4:$F$503="Pursued Treatment"))/SUMPRODUCT((ISNUMBER(Log!$A$4:$A$503))*(Log!$C$4:$C$503=Log!$I$3)),"-") | E43: =SUMPRODUCT((ISNUMBER(Log!$A$4:$A$503))*(Log!$C$4:$C$503=Log!$I$3)*(Log!$E$4:$E$503="Yes")) | F43: =IFERROR(SUMPRODUCT((ISNUMBER(Log!$A$4:$A$503))*(Log!$C$4:$C$503=Log!$I$3)*(Log!$E$4:$E$503="Yes"))/SUMPRODUCT((ISNUMBER(Log!$A$4:$A$503))*(Log!$C$4:$C$503=Log!$I$3)),"-") | G43: =SUMPRODUCT((ISNUMBER(Log!$A$4:$A$503))*(Log!$C$4:$C$503=Log!$I$3)*(Log!$G$4:$G$503)) | H43: =IFERROR(SUMPRODUCT((ISNUMBER(Log!$A$4:$A$503))*(Log!$C$4:$C$503=Log!$I$3)*(Log!$G$4:$G$503))/SUMPRODUCT((ISNUMBER(Log!$A$4:$A$503))*(Log!$C$4:$C$503=Log!$I$3)*(Log!$F$4:$F$503="Pursued Treatment")),"-")
A44: =IF(Log!$I$4="","Clinician 4",Log!$I$4) | B44: =SUMPRODUCT((ISNUMBER(Log!$A$4:$A$503))*(Log!$C$4:$C$503=Log!$I$4)) | C44: =SUMPRODUCT((ISNUMBER(Log!$A$4:$A$503))*(Log!$C$4:$C$503=Log!$I$4)*(Log!$F$4:$F$503="Pursued Treatment")) | D44: =IFERROR(SUMPRODUCT((ISNUMBER(Log!$A$4:$A$503))*(Log!$C$4:$C$503=Log!$I$4)*(Log!$F$4:$F$503="Pursued Treatment"))/SUMPRODUCT((ISNUMBER(Log!$A$4:$A$503))*(Log!$C$4:$C$503=Log!$I$4)),"-") | E44: =SUMPRODUCT((ISNUMBER(Log!$A$4:$A$503))*(Log!$C$4:$C$503=Log!$I$4)*(Log!$E$4:$E$503="Yes")) | F44: =IFERROR(SUMPRODUCT((ISNUMBER(Log!$A$4:$A$503))*(Log!$C$4:$C$503=Log!$I$4)*(Log!$E$4:$E$503="Yes"))/SUMPRODUCT((ISNUMBER(Log!$A$4:$A$503))*(Log!$C$4:$C$503=Log!$I$4)),"-") | G44: =SUMPRODUCT((ISNUMBER(Log!$A$4:$A$503))*(Log!$C$4:$C$503=Log!$I$4)*(Log!$G$4:$G$503)) | H44: =IFERROR(SUMPRODUCT((ISNUMBER(Log!$A$4:$A$503))*(Log!$C$4:$C$503=Log!$I$4)*(Log!$G$4:$G$503))/SUMPRODUCT((ISNUMBER(Log!$A$4:$A$503))*(Log!$C$4:$C$503=Log!$I$4)*(Log!$F$4:$F$503="Pursued Treatment")),"-")
...
